BEGIN:VCALENDAR
VERSION:2.0
METHOD:PUBLISH
PRODID:-//Accessible Web Design//My Calendar//http://www.joedolson.com//v//EN';
BEGIN:VEVENT
UID:21-19
LOCATION:
SUMMARY:Testületi ülés
DTSTAMP:20230630T100000
ORGANIZER;CN=Lőrincz Márton:MAILTO:lorincz.marton@mab.hu
DTSTART:20230630T100000
DTEND:20230630T130000
CATEGORIES:General
URL;VALUE=URI:https://www.mab.hu/mc-events/testuleti-ules-16/?mc_id=21
DESCRIPTION:
END:VEVENT
END:VCALENDAR