BEGIN:VCALENDAR
VERSION:2.0
METHOD:PUBLISH
PRODID:-//Accessible Web Design//My Calendar//http://www.joedolson.com//v//EN';
BEGIN:VEVENT
UID:22-8
LOCATION:
SUMMARY:Testületi ülés
DTSTAMP:20220324T100000
ORGANIZER;CN=Lőrincz Márton:MAILTO:lorincz.marton@mab.hu
DTSTART:20220324T100000
DTEND:20220324T130000
CATEGORIES:TESTÜLET
URL;VALUE=URI:https://www.mab.hu/mc-events/testuleti-ules-6/?mc_id=22
DESCRIPTION:
END:VEVENT
END:VCALENDAR