BEGIN:VCALENDAR
VERSION:2.0
METHOD:PUBLISH
PRODID:-//Accessible Web Design//My Calendar//http://www.joedolson.com//v//EN';
BEGIN:VEVENT
UID:25-21
LOCATION:
SUMMARY:Testületi ülés
DTSTAMP:20231020T100000
ORGANIZER;CN=Lőrincz Márton:MAILTO:lorincz.marton@mab.hu
DTSTART:20231020T100000
DTEND:20231020T130000
CATEGORIES:General
URL;VALUE=URI:https://www.mab.hu/mc-events/testuleti-ules-18/?mc_id=25
DESCRIPTION:
END:VEVENT
END:VCALENDAR