BEGIN:VCALENDAR
VERSION:2.0
METHOD:PUBLISH
PRODID:-//Accessible Web Design//My Calendar//http://www.joedolson.com//v//EN';
BEGIN:VEVENT
UID:28-24
LOCATION:
SUMMARY:Testületi ülés
DTSTAMP:20240126T100000
ORGANIZER;CN=Lőrincz Márton:MAILTO:lorincz.marton@mab.hu
DTSTART:20240126T100000
DTEND:20240126T130000
CATEGORIES:General
URL;VALUE=URI:https://www.mab.hu/mc-events/testuleti-ules-21/?mc_id=28
DESCRIPTION:
END:VEVENT
END:VCALENDAR