BEGIN:VCALENDAR
VERSION:2.0
METHOD:PUBLISH
PRODID:-//Accessible Web Design//My Calendar//http://www.joedolson.com//v//EN';
BEGIN:VEVENT
UID:33-29
LOCATION:
SUMMARY:Ügyviteli szünet
DTSTAMP:20240722
ORGANIZER;CN=Lőrincz Márton:MAILTO:lorincz.marton@mab.hu
DTSTART:20240722
DTEND:20240821
CATEGORIES:General
URL;VALUE=URI:https://www.mab.hu/mc-events/ugyviteli-szunet/?mc_id=33
DESCRIPTION:
X-FUNAMBOL-ALLDAY: 1
X-MICROSOFT-CDO-ALLDAYEVENT: TRUE

END:VEVENT
END:VCALENDAR