BEGIN:VCALENDAR
VERSION:2.0
METHOD:PUBLISH
PRODID:-//Accessible Web Design//My Calendar//http://www.joedolson.com//v//EN';
BEGIN:VEVENT
UID:15-13
LOCATION:
SUMMARY:Testületi ülés
DTSTAMP:20221216T100000
ORGANIZER;CN=Lőrincz Márton:MAILTO:lorincz.marton@mab.hu
DTSTART:20221216T100000
DTEND:20221216T130000
CATEGORIES:General
URL;VALUE=URI:https://www.mab.hu/mc-events/testuleti-ules-10/?mc_id=15
DESCRIPTION:
END:VEVENT
END:VCALENDAR