BEGIN:VCALENDAR
VERSION:2.0
METHOD:PUBLISH
PRODID:-//Accessible Web Design//My Calendar//http://www.joedolson.com//v//EN';
BEGIN:VEVENT
UID:19-17
LOCATION:
SUMMARY:Testületi ülés
DTSTAMP:20230428T100000
ORGANIZER;CN=Lőrincz Márton:MAILTO:lorincz.marton@mab.hu
DTSTART:20230428T100000
DTEND:20230428T130000
CATEGORIES:General
URL;VALUE=URI:https://www.mab.hu/mc-events/testuleti-ules-14/?mc_id=19
DESCRIPTION:
END:VEVENT
END:VCALENDAR